BEGIN:VCALENDAR
VERSION:2.0
PRODID:-//Bureba y más - ECPv6.15.18//NONSGML v1.0//EN
CALSCALE:GREGORIAN
METHOD:PUBLISH
X-WR-CALNAME:Bureba y más
X-ORIGINAL-URL:https://burebaymas.com
X-WR-CALDESC:Eventos para Bureba y más
REFRESH-INTERVAL;VALUE=DURATION:PT1H
X-Robots-Tag:noindex
X-PUBLISHED-TTL:PT1H
BEGIN:VTIMEZONE
TZID:Europe/Madrid
BEGIN:DAYLIGHT
TZOFFSETFROM:+0100
TZOFFSETTO:+0200
TZNAME:CEST
DTSTART:20230326T010000
END:DAYLIGHT
BEGIN:STANDARD
TZOFFSETFROM:+0200
TZOFFSETTO:+0100
TZNAME:CET
DTSTART:20231029T010000
END:STANDARD
BEGIN:DAYLIGHT
TZOFFSETFROM:+0100
TZOFFSETTO:+0200
TZNAME:CEST
DTSTART:20240331T010000
END:DAYLIGHT
BEGIN:STANDARD
TZOFFSETFROM:+0200
TZOFFSETTO:+0100
TZNAME:CET
DTSTART:20241027T010000
END:STANDARD
BEGIN:DAYLIGHT
TZOFFSETFROM:+0100
TZOFFSETTO:+0200
TZNAME:CEST
DTSTART:20250330T010000
END:DAYLIGHT
BEGIN:STANDARD
TZOFFSETFROM:+0200
TZOFFSETTO:+0100
TZNAME:CET
DTSTART:20251026T010000
END:STANDARD
END:VTIMEZONE
BEGIN:VEVENT
DTSTART;TZID=Europe/Madrid:20240719T203000
DTEND;TZID=Europe/Madrid:20240719T203000
DTSTAMP:20260419T190221
CREATED:20240717T192724Z
LAST-MODIFIED:20240717T192724Z
UID:4598-1721421000-1721421000@burebaymas.com
SUMMARY:CONCIERTOS DE VERANO
DESCRIPTION:RADIO BANDA \nCon la colaboración de Teatro Virovesca
URL:https://burebaymas.com/evento/conciertos-de-verano-2/
LOCATION:Patio del Hospitalillo\, Briviesca
CATEGORIES:Concierto
ATTACH;FMTTYPE=image/jpeg:https://burebaymas.com/wp-content/uploads/2024/07/IMG-20240627-WA0002-1.jpg
END:VEVENT
BEGIN:VEVENT
DTSTART;VALUE=DATE:20240719
DTEND;VALUE=DATE:20240729
DTSTAMP:20260419T190221
CREATED:20240715T185331Z
LAST-MODIFIED:20240715T191034Z
UID:4541-1721347200-1722211199@burebaymas.com
SUMMARY:WIN24 - LUNA DE CIERVO
DESCRIPTION:Para realizar tu inscripción elige un curso y un taller. \nhttp://whatismusic.es \n 
URL:https://burebaymas.com/evento/win24-luna-de-ciervo/
LOCATION:Ciudad de Frias\, Frías
CATEGORIES:WIN24
ATTACH;FMTTYPE=image/jpeg:https://burebaymas.com/wp-content/uploads/2024/07/cartel-web-conciertos-por-dias-wim24-scaled-1.jpg
END:VEVENT
BEGIN:VEVENT
DTSTART;VALUE=DATE:20240718
DTEND;VALUE=DATE:20240722
DTSTAMP:20260419T190221
CREATED:20240616T201712Z
LAST-MODIFIED:20240703T193628Z
UID:3483-1721260800-1721606399@burebaymas.com
SUMMARY:TRESPAROCK 2024
DESCRIPTION:Festival Solidario Autogestionado. \nJueves y domingo\, gratis. \nENTRADAS AGOTADAS \nAcampada libre. \n 
URL:https://burebaymas.com/evento/tresparock-2024/
LOCATION:Trespaderne\, Trespaderne\, Burgos
ATTACH;FMTTYPE=image/jpeg:https://burebaymas.com/wp-content/uploads/2024/06/18-19-20-21-julio-tresparock.jpg
END:VEVENT
BEGIN:VEVENT
DTSTART;TZID=Europe/Madrid:20240714T190000
DTEND;TZID=Europe/Madrid:20240714T203000
DTSTAMP:20260419T190221
CREATED:20240708T212019Z
LAST-MODIFIED:20240708T212019Z
UID:4401-1720983600-1720989000@burebaymas.com
SUMMARY:The Cherry Boppers
DESCRIPTION:Reserva tu entrada: \nelgranerodesanfrancisco@gmail.com \n621 127 251
URL:https://burebaymas.com/evento/the-cherry-boppers/
LOCATION:El Granero de San Francisco\, Santa Gadea del Cid
CATEGORIES:Concierto
ATTACH;FMTTYPE=image/png:https://burebaymas.com/wp-content/uploads/2024/07/Captura-de-pantalla-2024-07-08-a-las-23.12.03.png
END:VEVENT
BEGIN:VEVENT
DTSTART;TZID=Europe/Madrid:20240714T100000
DTEND;TZID=Europe/Madrid:20240714T180000
DTSTAMP:20260419T190221
CREATED:20240708T184142Z
LAST-MODIFIED:20240708T184142Z
UID:4377-1720951200-1720980000@burebaymas.com
SUMMARY:San Cristobal - Concentración de camiones
DESCRIPTION:10\,00 Concentracion de camiones Ctra.Quintanillabon. \n10\,15 Entrada en silencio hasta la plaza Mayor. \n10\,30 Almuerzo para socios y participantes. \n12\,00 Misa en la Plaza Mayor amenizada por el Coro parroquial. \n12\,30 Bendición y desfile de vehículos. \n15\,00 Comida de Hermandad. \nOrganiza: Peña de Conductores San Cristobal \n 
URL:https://burebaymas.com/evento/san-cristobal-concentracion-de-camiones/
LOCATION:Ctra. Quintanillabon\, Briviesca
CATEGORIES:Concentración
ATTACH;FMTTYPE=image/jpeg:https://burebaymas.com/wp-content/uploads/2024/07/IMG-20240708-WA0000.jpg
END:VEVENT
BEGIN:VEVENT
DTSTART;TZID=Europe/Madrid:20240713T220000
DTEND;TZID=Europe/Madrid:20240928T220000
DTSTAMP:20260419T190221
CREATED:20240710T201025Z
LAST-MODIFIED:20240710T202918Z
UID:4475-1720908000-1727560800@burebaymas.com
SUMMARY:CONCIERTO A LA LUZ DE LAS VELAS
DESCRIPTION:CONCIERTO A LA LUZ DE LAS VELAS \n+ \nVISITA GUIADA NOCTURNA \n+ \nVINO ESPAÑOL \nReservas: 661 792 076 – 947 590 152 \nAFORO LIMITADO \nPRECIO: 15€
URL:https://burebaymas.com/evento/concierto-a-la-luz-de-las-velas/
LOCATION:Santuario Santa Casilda\, Salinillas\, Burgos
CATEGORIES:Concierto,Vino,Visita guiada
ATTACH;FMTTYPE=image/jpeg:https://burebaymas.com/wp-content/uploads/2024/07/FB_IMG_1720550186891.jpg
END:VEVENT
BEGIN:VEVENT
DTSTART;TZID=Europe/Madrid:20240713T220000
DTEND;TZID=Europe/Madrid:20240713T233000
DTSTAMP:20260419T190221
CREATED:20240708T184731Z
LAST-MODIFIED:20240708T184731Z
UID:4384-1720908000-1720913400@burebaymas.com
SUMMARY:Concierto The Blue Medussa - El Portillo
DESCRIPTION:Jam Session
URL:https://burebaymas.com/evento/concierto-the-blue-medussa-el-portillo/
LOCATION:Bar El Portillo\, Cubo de Bureba\, Burgos
CATEGORIES:Concierto
ATTACH;FMTTYPE=image/jpeg:https://burebaymas.com/wp-content/uploads/2024/07/IMG-20240708-WA0004.jpg
END:VEVENT
BEGIN:VEVENT
DTSTART;TZID=Europe/Madrid:20240713T103000
DTEND;TZID=Europe/Madrid:20240713T190000
DTSTAMP:20260419T190221
CREATED:20240710T202712Z
LAST-MODIFIED:20240710T202712Z
UID:4480-1720866600-1720897200@burebaymas.com
SUMMARY:VI ENCUENTRO PROVINCIAL DE CAMPANEROS
DESCRIPTION:10\,30 h. Recepción a los Campaneros.\n11\,00 h. Santa Misa en San Vicente Mártir. En honor a los campaneros fallecidos.\n13\,15 h. Relojes\, campanas y toques manuales.\n15\,00 h. Taller de toque manual para todos los públicos.\n15:00 h. Comida.\n17:30/19:00 h. Muestra de toque manual y explicación.
URL:https://burebaymas.com/evento/vi-encuentro-provincial-de-campaneros/
LOCATION:Ciudad de Frias\, Frías
CATEGORIES:Encuentro
ATTACH;FMTTYPE=image/jpeg:https://burebaymas.com/wp-content/uploads/2024/07/FB_IMG_1720550236346.jpg
END:VEVENT
BEGIN:VEVENT
DTSTART;TZID=Europe/Madrid:20240712T220000
DTEND;TZID=Europe/Madrid:20240712T233000
DTSTAMP:20260419T190221
CREATED:20240702T190122Z
LAST-MODIFIED:20240702T190122Z
UID:3924-1720821600-1720827000@burebaymas.com
SUMMARY:LA RELLAMADA
DESCRIPTION:Teatro Virovesca presenta:\nLA RELLAMADA\nAdaptación del musical La llamada. \nFechas: 12 y 13 de julio.\nHora: 22:00 h.\nLugar: En el claustro del hospitalillo – Briviesca\nPrecio: 10€ por persona.\nEntradas disponibles en la oficina de turismo de Briviesca hasta completar aforo.
URL:https://burebaymas.com/evento/la-rellamada/
LOCATION:Claustro del hospitalillo\, Briviesca
ATTACH;FMTTYPE=image/jpeg:https://burebaymas.com/wp-content/uploads/2024/07/IMG-20240702-WA0002.jpg
END:VEVENT
BEGIN:VEVENT
DTSTART;VALUE=DATE:20240712
DTEND;VALUE=DATE:20240715
DTSTAMP:20260419T190221
CREATED:20240702T212539Z
LAST-MODIFIED:20240703T191915Z
UID:3940-1720742400-1721001599@burebaymas.com
SUMMARY:Salas de Bureba - San Zenón
DESCRIPTION:
URL:https://burebaymas.com/evento/salas-de-bureba-san-zenon/
LOCATION:Salas de Bureba\, Salas de Bureba\, Burgos
ATTACH;FMTTYPE=image/png:https://burebaymas.com/wp-content/uploads/2024/07/Captura-de-pantalla-2024-06-27-a-las-21.29.44.png
END:VEVENT
BEGIN:VEVENT
DTSTART;VALUE=DATE:20240712
DTEND;VALUE=DATE:20240715
DTSTAMP:20260419T190221
CREATED:20240701T213131Z
LAST-MODIFIED:20240701T213131Z
UID:3895-1720742400-1721001599@burebaymas.com
SUMMARY:Segundas jornadas de misterio de Pancorbo
DESCRIPTION:Tríptico\nCertamen de relato corto
URL:https://burebaymas.com/evento/segundas-jornadas-de-misterio-de-pancorbo/
LOCATION:Iglesia de Santiago\, Pancorbo
CATEGORIES:Jornadas
ATTACH;FMTTYPE=image/jpeg:https://burebaymas.com/wp-content/uploads/2024/07/IMG-20240627-WA0000.jpg
ORGANIZER;CN="Ayuntamiento de Pancorbo":MAILTO:jornadasmisteriopancorbo@gmail.com
END:VEVENT
BEGIN:VEVENT
DTSTART;VALUE=DATE:20240711
DTEND;VALUE=DATE:20240715
DTSTAMP:20260419T190221
CREATED:20240701T212154Z
LAST-MODIFIED:20240701T212154Z
UID:3888-1720656000-1721001599@burebaymas.com
SUMMARY:Palabras con piedras
DESCRIPTION:Taller de creación y juego poético.
URL:https://burebaymas.com/evento/palabras-con-piedras/
LOCATION:El Hacedor\, La Aldea del Portillo de Busto
CATEGORIES:Poesía,Taller
ATTACH;FMTTYPE=image/jpeg:https://burebaymas.com/wp-content/uploads/2024/07/11-al-14-Julio-La-Aldea-del-Portillo.jpg
ORGANIZER;CN="El Hacedor de Imagenes y Palabras":MAILTO:ask@elhacedor.es
END:VEVENT
BEGIN:VEVENT
DTSTART;VALUE=DATE:20240711
DTEND;VALUE=DATE:20240712
DTSTAMP:20260419T190221
CREATED:20240618T185642Z
LAST-MODIFIED:20240618T185642Z
UID:3518-1720656000-1720742399@burebaymas.com
SUMMARY:Fiestas Cristo de Barrio - Pancorbo
DESCRIPTION:Programa: \n12:00 h.\nSANTA MISA\,en la Ermita de Cristo de Barrio. \n13:00 h.\nActuación del GRUPO DE DANZAS «ANTECUVIA» de Pancorbo. \n15:00 h.\nComida popular en el polideportivo municipal. \n19:00 h.\nMERIENDA POPULAR con ACTUACIÓN DE LA CHARANGA «LOS GALLITOS» Y ENTREGA DE PREMIOS DEL CONCURSO DEL CARTEL ANUNCIADOR\, en la Ermita de Cristo de Barrio. \n22:00 h. – 03:00 h.\nCAMIÓN DISCO MÓVIL\, a cargo de «SAGITTARIUS»\, en la Plaza Mayor. \nSe facilitará un AUTOBÚS para el desplazamiento desde la marquesina de la Guardia Civil a la Ermita de Cristo de Barrio y de la Ermita de Cristo de Barrio hasta la marquesina de la Guardia Civil. \nHORARIOS DE AUTOBUSES PARA TRASLADOS ENTRE PANCORBO Y LA ERMITA: \nSalidas desde la marquesina de la Guardia Civil a la Ermita:\n– Primer viaje a las 11:30 horas.\n– Segundo viaje\, al regreso del anterior.\n– Tercer viaje\, a las 18:30 horas. \nSalidas desde la Ermita a la marquesina de la Guardia Civil:\n– Primer viaje a las 14:00 horas.\n– Segundo viaje\, a las 21:30 horas.
URL:https://burebaymas.com/evento/fiestas-cristo-de-barrio-pancorbo/
LOCATION:Ermita Cristo de Barrio\, Pancorbo
ATTACH;FMTTYPE=image/jpeg:https://burebaymas.com/wp-content/uploads/2024/06/11-de-julio-Pancorbo.jpg
END:VEVENT
BEGIN:VEVENT
DTSTART;TZID=Europe/Madrid:20240707T100000
DTEND;TZID=Europe/Madrid:20240707T150000
DTSTAMP:20260419T190221
CREATED:20240702T213217Z
LAST-MODIFIED:20240703T193345Z
UID:3943-1720346400-1720364400@burebaymas.com
SUMMARY:Feria de la cereza del Valle de Caderechas
DESCRIPTION:
URL:https://burebaymas.com/evento/feria-de-la-cereza-del-valle-de-caderechas/
LOCATION:Salas de Bureba\, Salas de Bureba\, Burgos
ATTACH;FMTTYPE=image/jpeg:https://burebaymas.com/wp-content/uploads/2024/07/facebook_1719516501876_7212174941885756607.jpg
END:VEVENT
BEGIN:VEVENT
DTSTART;TZID=Europe/Madrid:20240706T230000
DTEND;TZID=Europe/Madrid:20240706T230000
DTSTAMP:20260419T190221
CREATED:20240702T211108Z
LAST-MODIFIED:20240703T193227Z
UID:3935-1720306800-1720306800@burebaymas.com
SUMMARY:Tobera a la luz de las velas
DESCRIPTION:Con la actuación de Osmoli.
URL:https://burebaymas.com/evento/tobera-a-la-luz-de-las-velas/
LOCATION:Tobera\, Tobera\, Burgos
ATTACH;FMTTYPE=image/jpeg:https://burebaymas.com/wp-content/uploads/2024/07/6-de-julio-Tobera-1.jpg
END:VEVENT
BEGIN:VEVENT
DTSTART;TZID=Europe/Madrid:20240705T203000
DTEND;TZID=Europe/Madrid:20240705T220000
DTSTAMP:20260419T190221
CREATED:20240701T214635Z
LAST-MODIFIED:20240701T214635Z
UID:3903-1720211400-1720216800@burebaymas.com
SUMMARY:Conciertos de verano
DESCRIPTION:Banda Municipal de música.\nDías 5\, 12\, 19 y 26 de julio – Viernes\nHora: 20:30 h.\n* El día 12 será en el Parque La Florida.\nEntrada libre hasta completar aforo.\nDirector: Jorge Baldayo Peso.
URL:https://burebaymas.com/evento/conciertos-de-verano/
LOCATION:Patio del Hospitalillo\, Briviesca
CATEGORIES:Conciertos
ATTACH;FMTTYPE=image/jpeg:https://burebaymas.com/wp-content/uploads/2024/07/IMG-20240627-WA0002.jpg
END:VEVENT
BEGIN:VEVENT
DTSTART;TZID=Europe/Madrid:20240622T183000
DTEND;TZID=Europe/Madrid:20240622T183000
DTSTAMP:20260419T190221
CREATED:20240607T182722Z
LAST-MODIFIED:20240618T080754Z
UID:3384-1719081000-1719081000@burebaymas.com
SUMMARY:Carrera de los Desfiladeros
DESCRIPTION:El Ayuntamiento de Oña\, con la colaboración del Instituto Provincial para el Deporte y la Juventud de la Diputación de Burgos\, organiza la «Carrera de los Desfiladeros»\, que se celebrará el 22 de junio a las 18:30h. \n 
URL:https://burebaymas.com/evento/carrera-de-los-desfiladeros/
LOCATION:Oña\, Oña
CATEGORIES:Deportes
ATTACH;FMTTYPE=image/jpeg:https://burebaymas.com/wp-content/uploads/2024/06/22-junio-Ona_01.jpg
END:VEVENT
END:VCALENDAR